BEGIN:VCALENDAR
VERSION:2.0
PRODID:-//InvisionCommunity Events 5.0.10//EN
METHOD:PUBLISH
CALSCALE:GREGORIAN
REFRESH-INTERVAL:PT15M
X-PUBLISHED-TTL:PT15M
X-WR-CALNAME:DN
NAME:DN
BEGIN:VTIMEZONE
TZID:Europe/London
TZURL:https://tzurl.org/zoneinfo/Europe/London
X-LIC-LOCATION:Europe/London
BEGIN:DAYLIGHT
TZOFFSETFROM:+0000
TZOFFSETTO:+0100
TZNAME:BST
DTSTART:20160327T020000Z
RRULE:FREQ=YEARLY;BYMONTH=3;BYDAY=-1SU
END:DAYLIGHT
BEGIN:STANDARD
TZOFFSETFROM:+0100
TZOFFSETTO:+0000
TZNAME:GMT
DTSTART:20161030T020000Z
RRULE:FREQ=YEARLY;BYMONTH=10;BYDAY=-1SU
END:STANDARD
END:VTIMEZONE
BEGIN:VEVENT
SUMMARY:Día de las Caletoninas y los Caletoninos
DTSTAMP:20230825T073926Z
SEQUENCE:0
UID:26817-24-20c8eedb8c38d917655298edc424a516@estadodechile.info
ORGANIZER;CN="Estado de Chile":redes@estadodechile.info
DESCRIPTION:\n	El **Día de las Caletoninas y los Caletoninos** es una f
	echa que se celebra el **22 de abril** de cada año en Chile\, en homenaje
	 a las personas que vivieron en el campamento minero de Caletones\, en la 
	Región de O'Higgins¹². La ley que lo instituyó fue aprobada por el Con
	greso Nacional en 2016²³. \n\n\n\n	Källa: Konversation med Bing\, 25/0
	8/2023\n\n	(1) Definitivo: El 22 de abril será el día de los caletoninos
	 y caletoninas. https://eltipografo.cl/2016/03/definitivo-el-22-de-abril-s
	era-el-dia-de-los-caletoninos-y-caletoninas.\n\n	(2) Ley 20906 - Bibliotec
	a del Congreso Nacional de Chile. https://www.bcn.cl/leychile/navegar?idNo
	rma=1088863&amp\;org=.\n\n	(3) Historia de La Ley: Vista expandida - Bibli
	oteca del Congreso Nacional .... https://www.bcn.cl/historiadelaley/histor
	ia-de-la-ley/vista-expandida/4889/. \n\n
DTSTART;VALUE=DATE:20160422
RRULE:FREQ=YEARLY;INTERVAL=1
END:VEVENT
END:VCALENDAR
