BEGIN:VCALENDAR
VERSION:2.0
PRODID:-//InvisionCommunity Events 5.0.10//EN
METHOD:PUBLISH
CALSCALE:GREGORIAN
REFRESH-INTERVAL:PT15M
X-PUBLISHED-TTL:PT15M
X-WR-CALNAME:DN
NAME:DN
BEGIN:VTIMEZONE
TZID:Europe/London
TZURL:https://tzurl.org/zoneinfo/Europe/London
X-LIC-LOCATION:Europe/London
BEGIN:DAYLIGHT
TZOFFSETFROM:+0000
TZOFFSETTO:+0100
TZNAME:BST
DTSTART:20150329T020000Z
RRULE:FREQ=YEARLY;BYMONTH=3;BYDAY=-1SU
END:DAYLIGHT
BEGIN:STANDARD
TZOFFSETFROM:+0100
TZOFFSETTO:+0000
TZNAME:GMT
DTSTART:20151025T020000Z
RRULE:FREQ=YEARLY;BYMONTH=10;BYDAY=-1SU
END:STANDARD
END:VTIMEZONE
BEGIN:VEVENT
SUMMARY:Día de los Sewellinos y Sewellinas
DTSTAMP:20230825T224544Z
SEQUENCE:0
UID:26835-24-20c8eedb8c38d917655298edc424a516@estadodechile.info
ORGANIZER;CN="Estado de Chile":redes@estadodechile.info
DESCRIPTION:\n	El día de los sewellinos y sewellinas es una ley que se 
	promulgó en Chile el año 2014\, para conmemorar a las personas que vivie
	ron y trabajaron en la ciudad minera de Sewell\, declarada Patrimonio de l
	a Humanidad por la UNESCO. El día elegido fue el 29 de abril\, fecha en q
	ue se autorizó la instalación de la empresa Braden Copper Company en 190
	5.\n\n\n\n	(1) DÍA NACIONAL DE LOS SEWELLINOS Y SEWELLINAS. https://www.b
	cn.cl/leychile/navegar?idNorma=1061923&amp\;idVersion=2014-05-07.\n\n	(2) 
	Historia de la Ley N° 20.747 Día Nacional de los Sewellinos y Sewellinas
	. https://obtienearchivo.bcn.cl/obtienearchivo?id=recursoslegales/10221.3/
	44866/2/HL20747.pdf.\n\n	(3) A segundo trámite proyecto que instituye el 
	29 de abril como Día de los .... https://www.senado.cl/sala-de-sesiones/a
	-segundo-tramite-proyecto-que-instituye-el-29-de-abril-como-dia-de-los.\n\
	n
DTSTART;VALUE=DATE:20150429
RRULE:FREQ=YEARLY;INTERVAL=1
END:VEVENT
END:VCALENDAR
