BEGIN:VCALENDAR
VERSION:2.0
PRODID:-//InvisionCommunity Events 5.0.10//EN
METHOD:PUBLISH
CALSCALE:GREGORIAN
REFRESH-INTERVAL:PT15M
X-PUBLISHED-TTL:PT15M
X-WR-CALNAME:DN
NAME:DN
BEGIN:VTIMEZONE
TZID:Europe/London
TZURL:https://tzurl.org/zoneinfo/Europe/London
X-LIC-LOCATION:Europe/London
BEGIN:DAYLIGHT
TZOFFSETFROM:+0000
TZOFFSETTO:+0100
TZNAME:BST
DTSTART:20230326T020000Z
RRULE:FREQ=YEARLY;BYMONTH=3;BYDAY=-1SU
END:DAYLIGHT
BEGIN:STANDARD
TZOFFSETFROM:+0100
TZOFFSETTO:+0000
TZNAME:GMT
DTSTART:20231029T020000Z
RRULE:FREQ=YEARLY;BYMONTH=10;BYDAY=-1SU
END:STANDARD
END:VTIMEZONE
BEGIN:VEVENT
SUMMARY:Día Nacional de los Trabajadores y las Trabajadoras del Sis
	tema de Salud Chileno
DTSTAMP:20230827T151824Z
SEQUENCE:0
UID:27047-24-20c8eedb8c38d917655298edc424a516@estadodechile.info
ORGANIZER;CN="Estado de Chile":redes@estadodechile.info
DESCRIPTION:\n	El Día Nacional de los Trabajadores y las Trabajadoras d
	el Sistema de Salud Chileno se celebra el **29 de abril**\, desde el año 
	2022\, cuando se promulgó la ley que estableció esta fecha como un homen
	aje a la labor que cumplen los funcionarios de la salud\, especialmente en
	 el contexto de la pandemia de Covid-19\, y en memoria de Lorena Durán He
	rrera\, la primera funcionaria sanitaria víctima de la enfermedad¹². Es
	te día se deben desarrollar actividades que fomenten el bienestar laboral
	 y el reconocimiento social de los trabajadores y trabajadoras de la salud
	¹³. ¿Qué opinas de esta iniciativa?\n\n\n\n	Källa: Konversation med B
	ing\, 27/08/2023\n\n	(1) Día Nacional de los Trabajadores y las Trabajado
	ras del sistema de .... https://www.diarioconstitucional.cl/2022/07/29/dia
	-nacional-de-los-trabajadores-y-las-trabajadoras-del-sistema-de-salud-chil
	eno-se-fija-el29-de-abril-de-cada-ano/.\n\n	(2) Chile – Día Nacional de
	 los Trabajadores del Sistema de Salud. https://www.diariojuridico.com/chi
	le-dia-nacional-de-los-trabajadores-del-sistema-de-salud/.\n\n	(3) Listo p
	ara ley Día Nacional de los Trabajadores y las Trabajadoras del .... http
	s://eluniversal.cl/2022/07/26/listo-para-ley-dia-nacional-de-los-trabajado
	res-y-las-trabajadoras-del-sistema-de-salud/.\n\n	(4) Aprueban el Día Nac
	ional de las y los Trabajadores de la Salud. https://eluniversal.cl/2021/0
	7/28/aprueban-el-dia-nacional-de-las-y-los-trabajadores-de-la-salud/.\n\n
DTSTART;VALUE=DATE:20230429
RRULE:FREQ=YEARLY;INTERVAL=1
END:VEVENT
END:VCALENDAR
