BEGIN:VCALENDAR
VERSION:2.0
PRODID:-//InvisionCommunity Events 5.0.10//EN
METHOD:PUBLISH
CALSCALE:GREGORIAN
REFRESH-INTERVAL:PT15M
X-PUBLISHED-TTL:PT15M
X-WR-CALNAME:DN
NAME:DN
BEGIN:VTIMEZONE
TZID:Europe/London
TZURL:https://tzurl.org/zoneinfo/Europe/London
X-LIC-LOCATION:Europe/London
BEGIN:DAYLIGHT
TZOFFSETFROM:+0000
TZOFFSETTO:+0100
TZNAME:BST
DTSTART:20140330T020000Z
RRULE:FREQ=YEARLY;BYMONTH=3;BYDAY=-1SU
END:DAYLIGHT
BEGIN:STANDARD
TZOFFSETFROM:+0100
TZOFFSETTO:+0000
TZNAME:GMT
DTSTART:20141026T020000Z
RRULE:FREQ=YEARLY;BYMONTH=10;BYDAY=-1SU
END:STANDARD
END:VTIMEZONE
BEGIN:VEVENT
SUMMARY:Día Nacional del Emprendimiento
DTSTAMP:20230827T221151Z
SEQUENCE:0
UID:27097-24-20c8eedb8c38d917655298edc424a516@estadodechile.info
ORGANIZER;CN="Estado de Chile":redes@estadodechile.info
DESCRIPTION:\n	El **Día Nacional del Emprendimiento** en Chile se celeb
	ra el **29 de abril** desde 2013¹². Esta fecha se creó para reconocer e
	l valor y la importancia de las Pymes y los emprendedores en el país\, y 
	para fomentar la cultura emprendedora y el espíritu innovador¹². En est
	e día\, se realizan diversas actividades\, iniciativas y programas para a
	poyar y potenciar el emprendimiento en Chile².\n\n\n\n	Källa: Konversati
	on med Bing\, 28/08/2023\n\n	(1) ¿Cuándo se celebra el Día del Emprendi
	miento en nuestro país?. https://ce.entel.cl/articulos/29-abril-dia-nacio
	nal-del-emprendimiento/.\n\n	(2) Día Nacional del Emprendimiento 2023: In
	iciativas y programas - Chócale. https://chocale.cl/2023/04/dia-nacional-
	del-emprendimiento-2023-fondos-iniciativas-programas/.\n\n
DTSTART;VALUE=DATE:20140429
RRULE:FREQ=YEARLY;INTERVAL=1
END:VEVENT
END:VCALENDAR
