BEGIN:VCALENDAR
VERSION:2.0
PRODID:-//InvisionCommunity Events 5.0.10//EN
METHOD:PUBLISH
CALSCALE:GREGORIAN
REFRESH-INTERVAL:PT15M
X-PUBLISHED-TTL:PT15M
X-WR-CALNAME:DN
NAME:DN
BEGIN:VTIMEZONE
TZID:Europe/London
TZURL:https://tzurl.org/zoneinfo/Europe/London
X-LIC-LOCATION:Europe/London
BEGIN:DAYLIGHT
TZOFFSETFROM:+0000
TZOFFSETTO:+0100
TZNAME:BST
DTSTART:20230326T020000Z
RRULE:FREQ=YEARLY;BYMONTH=3;BYDAY=-1SU
END:DAYLIGHT
BEGIN:STANDARD
TZOFFSETFROM:+0100
TZOFFSETTO:+0000
TZNAME:GMT
DTSTART:20231029T020000Z
RRULE:FREQ=YEARLY;BYMONTH=10;BYDAY=-1SU
END:STANDARD
END:VTIMEZONE
BEGIN:VEVENT
SUMMARY:Día Nacional del Leonismo Chileno
DTSTAMP:20230828T090749Z
SEQUENCE:0
UID:27131-24-20c8eedb8c38d917655298edc424a516@estadodechile.info
ORGANIZER;CN="Estado de Chile":redes@estadodechile.info
DESCRIPTION:\n	El \"Día Nacional del Leonismo Chileno\" se celebra el 2
	4 de abril de cada año\, desde 2022¹². Esta fecha conmemora el aniversa
	rio de la fundación del primer club de leones en Chile\, el Club de Leone
	s de Santiago\, en 1923¹². El objetivo de este día es reconocer la labo
	r social y humanitaria que realizan los leones en el país y el mundo¹².
	\n\n\n\n	Källa: Konversation med Bing\, 28/08/2023\n\n	(1) CADA AÑO COMO
	 EL DÍA NACIONAL DEL LEONISMO CHILENO. RECAÍDO EN EL .... https://www.ca
	mara.cl/verDoc.aspx?prmID=60123&amp\;prmTipo=INFORME_COMISION.\n\n	(2) A l
	ey Día Nacional del Leonismo Chileno – El Universal Chile. https://elun
	iversal.cl/2022/06/10/a-ley-dia-nacional-del-leonismo-chileno/.\n\n	(3) An
	exo:Días nacionales en Chile - Wikipedia\, la enciclopedia libre. https:/
	/es.wikipedia.org/wiki/Anexo:Días_nacionales_en_Chile.\n\n
DTSTART;VALUE=DATE:20230424
RRULE:FREQ=YEARLY;INTERVAL=1
END:VEVENT
END:VCALENDAR
