BEGIN:VCALENDAR
VERSION:2.0
PRODID:-//InvisionCommunity Events 5.0.10//EN
METHOD:PUBLISH
CALSCALE:GREGORIAN
REFRESH-INTERVAL:PT15M
X-PUBLISHED-TTL:PT15M
X-WR-CALNAME:DN
NAME:DN
BEGIN:VTIMEZONE
TZID:Europe/London
TZURL:https://tzurl.org/zoneinfo/Europe/London
X-LIC-LOCATION:Europe/London
BEGIN:DAYLIGHT
TZOFFSETFROM:+0000
TZOFFSETTO:+0100
TZNAME:BST
DTSTART:19890326T020000Z
RRULE:FREQ=YEARLY;BYMONTH=3;BYDAY=-1SU
END:DAYLIGHT
BEGIN:STANDARD
TZOFFSETFROM:+0100
TZOFFSETTO:+0000
TZNAME:GMT
DTSTART:19891029T020000Z
RRULE:FREQ=YEARLY;BYMONTH=10;BYDAY=-1SU
END:STANDARD
END:VTIMEZONE
BEGIN:VEVENT
SUMMARY:Día Nacional del Relacionador Público
DTSTAMP:20230828T220623Z
SEQUENCE:0
UID:27178-24-20c8eedb8c38d917655298edc424a516@estadodechile.info
ORGANIZER;CN="Estado de Chile":redes@estadodechile.info
DESCRIPTION:\n	El **Día Nacional del Relacionador Público** en Chile s
	e celebra cada **26 de mayo**\, desde el año 1989². Esta fecha fue decla
	rada por un decreto del Ministerio del Interior\, en reconocimiento a la c
	onformación del Colegio Profesional de Relacionadores Públicos en 1983¹
	. Los relacionadores públicos son profesionales que se encargan de gestio
	nar la comunicación estratégica de las organizaciones con sus públicos 
	de interés¹. ¿Qué haces tú para comunicarte mejor? 🗣️\n\n\n\n	K
	älla: Konversation med Bing\, 29/08/2023\n\n	(1) Ley Chile - Decreto 612 
	(16-may-1989) M. del Interior\; Subsecretaría .... https://www.bcn.cl/ley
	chile/navegar?i=1039396.\n\n	(2) Mayo. Día del Relacionador Público 2021
	 - Portal de noticias. https://actualidad.udla.cl/agendavcm/mayo-dia-del-r
	elacionador-publico-2021/.\n\n	(3) Anexo:Días nacionales en Chile - Wikip
	edia\, la enciclopedia libre. https://es.wikipedia.org/wiki/Anexo:Días_na
	cionales_en_Chile.\n\n
DTSTART;VALUE=DATE:19890526
RRULE:FREQ=YEARLY;INTERVAL=1
END:VEVENT
END:VCALENDAR
