BEGIN:VCALENDAR
VERSION:2.0
PRODID:-//InvisionCommunity Events 5.0.10//EN
METHOD:PUBLISH
CALSCALE:GREGORIAN
REFRESH-INTERVAL:PT15M
X-PUBLISHED-TTL:PT15M
X-WR-CALNAME:DN
NAME:DN
BEGIN:VTIMEZONE
TZID:Europe/London
TZURL:https://tzurl.org/zoneinfo/Europe/London
X-LIC-LOCATION:Europe/London
BEGIN:DAYLIGHT
TZOFFSETFROM:+0000
TZOFFSETTO:+0100
TZNAME:BST
DTSTART:20230326T020000Z
RRULE:FREQ=YEARLY;BYMONTH=3;BYDAY=-1SU
END:DAYLIGHT
BEGIN:STANDARD
TZOFFSETFROM:+0100
TZOFFSETTO:+0000
TZNAME:GMT
DTSTART:20231029T020000Z
RRULE:FREQ=YEARLY;BYMONTH=10;BYDAY=-1SU
END:STANDARD
END:VTIMEZONE
BEGIN:VEVENT
SUMMARY:Día Nacional para la Conmemoración de las Personas Falleci
	das producto de la Pandemia por COVID-19
DTSTAMP:20230829T001215Z
SEQUENCE:0
UID:27206-24-20c8eedb8c38d917655298edc424a516@estadodechile.info
ORGANIZER;CN="Estado de Chile":redes@estadodechile.info
DESCRIPTION:\n	El Día Nacional para la Conmemoración de las Personas F
	allecidas producto de la Pandemia por COVID-19 en Chile se celebra el **21
	 de marzo** de cada año\, desde el 2021¹². Este día se busca homenajea
	r a las personas que han perdido la vida a causa del coronavirus en el pa
	ís\, así como a sus familiares y seres queridos¹²³. La fecha se elig
	ió porque ese día\, en el 2020\, se registró la primera muerte por COVI
	D-19 en Chile². ¿Has perdido a alguien cercano por esta enfermedad? ¿C
	ómo te has sentido durante esta pandemia?\n\n\n\n	Källa: Konversation me
	d Bing\, 29/08/2023\n\n	(1) Diputados aprueban iniciativa que fija el 21 d
	e marzo como Día Nacional .... https://www.latercera.com/nacional/noticia
	/diputados-aprueban-iniciativa-que-fija-el-21-de-marzo-como-dia-nacional-d
	e-conmemoracion-de-las-personas-fallecidas-por-la-pandemia-de-coronavirus-
	en-chile/PHHP5IREFNARVOOPTZUBC3N2FE/.\n\n	(2) Proponen declarar el 21 de m
	arzo como día nacional por ... - CNN Chile. https://www.cnnchile.com/pais
	/21-marzo-dia-nacional-fallecidos-covid-19-chile-proyecto-ley_20210318/.\n
	\n	(3) Establecen el 21 de marzo como el día de la Conmemoración de Pers
	onas .... https://www.latribuna.cl/salud/2022/07/21/establecen-el-21-de-ma
	rzo-como-el-dia-de-la-conmemoracion-de-personas-fallecidas-producto-del-co
	vid-19.html.\n\n	(4) Anexo: Días nacionales en Chile - Wikipedia\, la enc
	iclopedia libre. https://es.wikipedia.org/wiki/Anexo:Días_nacionales_en_C
	hile. \n\n
DTSTART;VALUE=DATE:20230321
RRULE:FREQ=YEARLY;INTERVAL=1
END:VEVENT
END:VCALENDAR
