BEGIN:VCALENDAR
VERSION:2.0
PRODID:-//InvisionCommunity Events 5.0.10//EN
METHOD:PUBLISH
CALSCALE:GREGORIAN
REFRESH-INTERVAL:PT15M
X-PUBLISHED-TTL:PT15M
X-WR-CALNAME:DN
NAME:DN
BEGIN:VTIMEZONE
TZID:Europe/London
TZURL:https://tzurl.org/zoneinfo/Europe/London
X-LIC-LOCATION:Europe/London
BEGIN:DAYLIGHT
TZOFFSETFROM:+0000
TZOFFSETTO:+0100
TZNAME:BST
DTSTART:20270328T020000Z
RRULE:FREQ=YEARLY;BYMONTH=3;BYDAY=-1SU
END:DAYLIGHT
BEGIN:STANDARD
TZOFFSETFROM:+0100
TZOFFSETTO:+0000
TZNAME:GMT
DTSTART:20271031T020000Z
RRULE:FREQ=YEARLY;BYMONTH=10;BYDAY=-1SU
END:STANDARD
END:VTIMEZONE
BEGIN:VEVENT
SUMMARY:Día Nacional sin Automóvil
DTSTAMP:20230829T091956Z
SEQUENCE:0
UID:27219-24-20c8eedb8c38d917655298edc424a516@estadodechile.info
ORGANIZER;CN="Estado de Chile":redes@estadodechile.info
DESCRIPTION:\n\n	El Día Nacional sin Automóvil en Chile se celebra el 
	**último viernes de septiembre**\, coincidiendo con el Día Mundial sin A
	uto². Es una fecha para promover el transporte y el desarrollo urbano sos
	tenible\, así como la reducción de emisiones y la eficiencia energéti
	ca⁴. En 2021\, se realizó una feria ciudadana para incentivar el uso de
	 la bicicleta y otros medios de movilidad activa¹. \n\n\n\n\n\n\n\n	Käl
	la: Konversation med Bing\, 29/08/2023\n\n\n	(1) Día Mundial sin Auto –
	 MMA. https://mma.gob.cl/dia-mundial-sin-auto/.\n\n\n	(2) Día Nacional Si
	n Automóvil: el transporte en Chile y su impacto en el .... https://www.w
	wf.cl/?379030/Dia-Nacional-Sin-Automovil-el-transporte-en-Chile-y-su-impac
	to-en-el-medio-ambiente.\n\n\n	(3) Con feria ciudadana celebran el Día Na
	cional sin Auto 2021. https://www.conaset.cl/con-feria-ciudadana-celebran-
	el-dia-nacional-sin-auto-2021/.\n\n\n	(4) Día Mundial Sin Auto. https://s
	ustentable.uc.cl/noticias/589-dia-mundial-sin-auto.\n\n\n\n
DTSTART;VALUE=DATE:20270924
END:VEVENT
END:VCALENDAR
