BEGIN:VCALENDAR
VERSION:2.0
PRODID:-//InvisionCommunity Events 5.0.10//EN
METHOD:PUBLISH
CALSCALE:GREGORIAN
REFRESH-INTERVAL:PT15M
X-PUBLISHED-TTL:PT15M
X-WR-CALNAME:DNNO
NAME:DNNO
BEGIN:VTIMEZONE
TZID:Europe/London
TZURL:https://tzurl.org/zoneinfo/Europe/London
X-LIC-LOCATION:Europe/London
BEGIN:DAYLIGHT
TZOFFSETFROM:+0000
TZOFFSETTO:+0100
TZNAME:BST
DTSTART:20220327T020000Z
RRULE:FREQ=YEARLY;BYMONTH=3;BYDAY=-1SU
END:DAYLIGHT
BEGIN:STANDARD
TZOFFSETFROM:+0100
TZOFFSETTO:+0000
TZNAME:GMT
DTSTART:20221030T020000Z
RRULE:FREQ=YEARLY;BYMONTH=10;BYDAY=-1SU
END:STANDARD
END:VTIMEZONE
BEGIN:VEVENT
SUMMARY:Día del alumno
DTSTAMP:20230831T094333Z
SEQUENCE:0
UID:27246-25-20c8eedb8c38d917655298edc424a516@estadodechile.info
ORGANIZER;CN="Estado de Chile":redes@estadodechile.info
DESCRIPTION:\n\n	El Día del Alumno en Chile se celebra desde 1992 el **
	11 de mayo** de cada año\, por decreto del Ministerio de Educación¹. Es
	 una fecha especial para homenajear a los estudiantes que se esfuerzan por
	 aprender y crecer². \n\n\n\n\n\n\n\n	Källa: Konversation med Bing\, 31
	/08/2023\n\n\n	(1) Día del Estudiante 2023 en Chile | Calendario de Chile
	. https://www.calendariochile.com/fecha/dia-del-estudiante.\n\n\n	(2) Día
	 del Alumno en Chile: ¿Por qué se celebra? | La Tribuna. https://www.lat
	ribuna.cl/educacion/2023/05/11/dia-del-alumno-en-chile-por-que-se-celebra.
	html.\n\n\n	(3) 11 de mayo\, Día del Alumno en Chile: ¿por qué se celeb
	ra?. http://www.colegiorepublicadefrancia.cl/2022/05/13/11-de-mayo-dia-del
	-alumno-en-chile-por-que-se-celebra/.\n\n\n\n
DTSTART;VALUE=DATE:20220511
END:VEVENT
END:VCALENDAR
